BEGIN:VCALENDAR
VERSION:2.0
PRODID:-//Ex-act KM (Marva) - ECPv6.15.20//NONSGML v1.0//EN
CALSCALE:GREGORIAN
METHOD:PUBLISH
X-WR-CALNAME:Ex-act KM (Marva)
X-ORIGINAL-URL:https://ex-actkm.nl
X-WR-CALDESC:Evenementen voor Ex-act KM (Marva)
REFRESH-INTERVAL;VALUE=DURATION:PT1H
X-Robots-Tag:noindex
X-PUBLISHED-TTL:PT1H
BEGIN:VTIMEZONE
TZID:Europe/Paris
BEGIN:DAYLIGHT
TZOFFSETFROM:+0100
TZOFFSETTO:+0200
TZNAME:CEST
DTSTART:20250330T010000
END:DAYLIGHT
BEGIN:STANDARD
TZOFFSETFROM:+0200
TZOFFSETTO:+0100
TZNAME:CET
DTSTART:20251026T010000
END:STANDARD
BEGIN:DAYLIGHT
TZOFFSETFROM:+0100
TZOFFSETTO:+0200
TZNAME:CEST
DTSTART:20260329T010000
END:DAYLIGHT
BEGIN:STANDARD
TZOFFSETFROM:+0200
TZOFFSETTO:+0100
TZNAME:CET
DTSTART:20261025T010000
END:STANDARD
BEGIN:DAYLIGHT
TZOFFSETFROM:+0100
TZOFFSETTO:+0200
TZNAME:CEST
DTSTART:20270328T010000
END:DAYLIGHT
BEGIN:STANDARD
TZOFFSETFROM:+0200
TZOFFSETTO:+0100
TZNAME:CET
DTSTART:20271031T010000
END:STANDARD
END:VTIMEZONE
BEGIN:VEVENT
DTSTART;VALUE=DATE:20260411
DTEND;VALUE=DATE:20260412
DTSTAMP:20260419T222453
CREATED:20250207T175624Z
LAST-MODIFIED:20260227T190408Z
UID:4096-1775865600-1775951999@ex-actkm.nl
SUMMARY:Uitje BB bunker regio noordoost 2026
DESCRIPTION:IN DE HERHALING: BIJZONDER UITJE REGIO NOORD-OOST! \nNoteer in je agenda want dit wil je echt niet missen! \nWanneer? Zaterdag 11 april as \nWat? Wij zijn er een paar jaar geleden al een keer geweest maar vanwege het grote succes en vraag naar dit unieke uitje wat eigenlijk iedereen gezien moet hebben gaan wij nog een keer naar de BB bunker in Grou (Friesland). \nWaarom is dit bijzonder? \nMet 1100 vierkante meter en voor 90 procent in takt staat In Grou de grootste BB bunker van ons land. Hierin ga je echt even terug naar de tijd van de jaren 60-70-80. Het tijdperk van de koude oorlog. Het is geen militaire bunker. Toch zijn er heel veel gelijkenissen met Defensie. Vooral voor de Marva’s uit deze tijd zal het een feest van herkenning zijn. Zo is bijvoorbeeld het telefoonsysteem en verzenden van crypto hetzelfde als wat er bij Koninklijke Marine gebruikt werd. \nHet programma is: \n10.30 uur Ontvangst met koffie met origineel fries oranjekoek \n11.00 uur Start rondleidingen door de bunker \n12.30 uur Aanvang lunch\, ditmaal de bekende blauwe hap! \n14.30 uur Einde programma \nGrou ligt aan de snelweg (A32) tussen Heerenveen en Leeuwarden in\, heeft een eigen treinstation en is daardoor goed bereikbaar. Vanaf het station kunnen de bezoekers opgehaald worden\, of zelf lopen (ongeveer 20 minuten). Het adres is Burstumerdyk 1 9001 ZC Grou. De kosten voor dit uitje zijn voor iedereen 24 euro. \nKom ook en ga mee terug in de tijd! \nOpgeven en betalen kan via de onderstaande link. \nOpgave graag voor woensdag 1 april a.s. \n(Let op! Het is niet rolstoeltoegankelijk). Bij binnenkomst is een kleine trap van 5 treden en 2 waterkeringen. Daarna is alles gelijkvloers. Mensen met een rollator kunnen hierbij geholpen worden. Twijfel niet maar geef je snel op om te kunnen meegenieten van dit bijzondere uitje! \nAanmeldlink: \nhttps://www.formdesk.com/exactkm/uitjeBBBunkernoordoost2026 \nWij hopen op een grote opkomst\, tot ziens in Grou! \nHartelijke groeten Suzan Vogels en José Mellema
URL:https://ex-actkm.nl/event/prinsjesdag-dinsdag-16-september-2025/
CATEGORIES:Regio
END:VEVENT
END:VCALENDAR